BEGIN:VCALENDAR
VERSION:2.0
PRODID:-//Freshstartps - ECPv6.15.12.2//NONSGML v1.0//EN
CALSCALE:GREGORIAN
METHOD:PUBLISH
X-WR-CALNAME:Freshstartps
X-ORIGINAL-URL:https://freshstartps.org
X-WR-CALDESC:Events for Freshstartps
REFRESH-INTERVAL;VALUE=DURATION:PT1H
X-Robots-Tag:noindex
X-PUBLISHED-TTL:PT1H
BEGIN:VTIMEZONE
TZID:UTC
BEGIN:STANDARD
TZOFFSETFROM:+0000
TZOFFSETTO:+0000
TZNAME:UTC
DTSTART:20250101T000000
END:STANDARD
END:VTIMEZONE
BEGIN:VEVENT
DTSTART;TZID=UTC:20260318T173000
DTEND;TZID=UTC:20260318T200000
DTSTAMP:20260423T234214
CREATED:20260226T095434Z
LAST-MODIFIED:20260226T192651Z
UID:1085-1773855000-1773864000@freshstartps.org
SUMMARY:1st Time Home Buyer-Home Club (In-Person Class)
DESCRIPTION:Please sign up at the link provided below.
URL:https://freshstartps.org/event/fresh-start-ps-1st-time-homebuyer-power-hour-virtual-class/
END:VEVENT
END:VCALENDAR